BEGIN:VCALENDAR
VERSION:2.0
PRODID:-//Spring Rollers - ECPv6.13.2.1//NONSGML v1.0//EN
CALSCALE:GREGORIAN
METHOD:PUBLISH
X-WR-CALNAME:Spring Rollers
X-ORIGINAL-URL:https://springrollers.org
X-WR-CALDESC:Events for Spring Rollers
REFRESH-INTERVAL;VALUE=DURATION:PT1H
X-Robots-Tag:noindex
X-PUBLISHED-TTL:PT1H
BEGIN:VTIMEZONE
TZID:UTC
BEGIN:STANDARD
TZOFFSETFROM:+0000
TZOFFSETTO:+0000
TZNAME:UTC
DTSTART:20180101T000000
END:STANDARD
END:VTIMEZONE
BEGIN:VEVENT
DTSTART;TZID=UTC:20220804T080000
DTEND;TZID=UTC:20220807T170000
DTSTAMP:20260423T173808
CREATED:20211110T184848Z
LAST-MODIFIED:20211124T220320Z
UID:470-1659600000-1659891600@springrollers.org
SUMMARY:Abilities Expo
DESCRIPTION:Houston\, We’re Back!\nWe can’t wait to show you all of products\, technologies and resources to help you up your game! Buckle up for an all-inclusive climbing wall\, a slew of adaptive sports\, fun dance opportunities\, info-packed workshops and more. It’s all free so join us and register today. \n\n\n\n\nPROGRAM\nExhibitors / Floor Plan\nWorkshops\nActivities and Demos\nArtist Market\nAmbassadors\n\n\nPLAN YOUR VISIT\nRegister For Free\nCalendar\nDirections/Parking\nDisability Svcs/Hotel\nDownload Flyer\n\n\nSPECIAL FEATURES\nAdaptive Sports\nDance Performances\nCan’t Miss Experiences\nService Animals\nAdaptive Climbing Wall
URL:https://springrollers.org/event/abilities-expo/
END:VEVENT
BEGIN:VEVENT
DTSTART;TZID=UTC:20220524T080000
DTEND;TZID=UTC:20220524T170000
DTSTAMP:20260423T173808
CREATED:20211124T220040Z
LAST-MODIFIED:20211124T220040Z
UID:494-1653379200-1653411600@springrollers.org
SUMMARY:Boating/Parasailing/Swimming/Tubing/Wake Surfing/Water Skiing - Dallas RISE
DESCRIPTION:Boating \nMay 24\, 2022  9:00 am – 12:00 pm\nMeadowmere Park\, 3000 Meadowmere Ln\, Grapevine\, TX 76051\, USA \n\n\nOnline reservations are mandatory 48 hours prior to program start time. Reservations not made on time are unacceptable and you will not be allowed to participate. \nPlease arrive at the scheduled program start time. If you arrive 1 hour after program start time you will not be allowed to participate in this program. \nTo make PROGRAM RESERVATIONS please use our electronic form. \nFor more information or questions contact:\ninfo@riseadaptivesports.org or (469) 762-5075
URL:https://springrollers.org/event/boating-parasailing-swimming-tubing-wake-surfing-water-skiing-dallas-rise/
END:VEVENT
BEGIN:VEVENT
DTSTART;TZID=UTC:20220325T080000
DTEND;TZID=UTC:20220327T170000
DTSTAMP:20260423T173808
CREATED:20211110T184030Z
LAST-MODIFIED:20220111T224302Z
UID:466-1648195200-1648400400@springrollers.org
SUMMARY:2022 UH Cougar Open
DESCRIPTION:The Adaptive Athletics at University of Houston invites you to register for the 2022 UH Cougar Open\, ITF 3 Series ($14\,000 prize money) and USTA National Level 2 Wheelchair Tennis Tournament\, part of the Uniqlo Wheelchair Tennis Tour and presented by the Halliburton Charitable Foundation. \nTOURNAMENT DATES\nMarch 25-27\, 2022 \nTOURNAMENT SITE\nMemorial Park Tennis Center in Houston\, TX\, USA \nENTRY DEADLINES\n• ITF Open Divisions: March 4\, 2022\n• USTA Letter Divisions: March 11\, 2022\nTOURNAMENT DETAILS\nPlease refer to our Fact Sheet (link below) for tournament details. Please register for the tournament by completing the online Entry Form (link below). USTA players may also register through our Official USTA Serve Tennis website (link below). Please contact the Tournament Director at kyhornbeck@gmail.com with any questions. \nIMPORTANT LINKS\n• Fact Sheet & Entry Form – Fact sheet and entry form for all players\n• 2022 UH Cougar Open (ITF) – Official ITF website\n• 2022 UH Cougar Open (USTA) – Official USTA Serve Tennis website\, location for USTA players to pay and register\nADDITIONAL NOTES\nParticipants will be interacting with University of Houston students and are expected to act within the code of conduct at all times. Unacceptable behavior will not be tolerated. All participants will be required to sign waivers and release forms prior to participation — Legal Liability\, Anti-Doping\, Anti-Corruption\, Code of Conduct\, Photo/Image/Likeness Release. Please note that the international Covid-19 response is ongoing\, and regulations and requirements are subject to change.
URL:https://springrollers.org/event/2022-uh-cougar-open/
END:VEVENT
BEGIN:VEVENT
DTSTART;TZID=UTC:20220312T080000
DTEND;TZID=UTC:20220312T170000
DTSTAMP:20260423T173808
CREATED:20211124T215833Z
LAST-MODIFIED:20211124T215833Z
UID:492-1647072000-1647104400@springrollers.org
SUMMARY:Canoeing/Fishing/Handcycling/Kayaking - Dallas RISE
DESCRIPTION:Canoeing \nMarch 12\, 2022  9:00 am – 12:00 pm\nMeadowmere Park\, 3000 Meadowmere Ln\, Grapevine\, TX 76051\, USA \n\n\nOnline reservations are mandatory 48 hours prior to program start time. Reservations not made on time are unacceptable and you will not be allowed to participate. \nPlease arrive at the scheduled program start time. If you arrive 1 hour after program start time you will not be allowed to participate in this program. \nTo make PROGRAM RESERVATIONS please use our electronic form. \nFor more information or questions contact: info@riseadaptivesports.org or (469) 762-5075
URL:https://springrollers.org/event/canoeing-fishing-handcycling-kayaking-dallas-rise/
END:VEVENT
BEGIN:VEVENT
DTSTART;TZID=UTC:20220308T080000
DTEND;TZID=UTC:20220313T170000
DTSTAMP:20260423T173808
CREATED:20211124T213403Z
LAST-MODIFIED:20211124T213403Z
UID:484-1646726400-1647190800@springrollers.org
SUMMARY:Cajun Classic
DESCRIPTION:Paula G Manship YMCA Lamar Tennis Center\, Baton Rouge
URL:https://springrollers.org/event/cajun-classic/
END:VEVENT
BEGIN:VEVENT
DTSTART;TZID=UTC:20220302T080000
DTEND;TZID=UTC:20220306T170000
DTSTAMP:20260423T173808
CREATED:20211124T213042Z
LAST-MODIFIED:20211124T213042Z
UID:482-1646208000-1646586000@springrollers.org
SUMMARY:ITF Georgia Open
DESCRIPTION:Rome Tennis center at Berry College\, Rome\, GA
URL:https://springrollers.org/event/itf-georgia-open/
END:VEVENT
BEGIN:VEVENT
DTSTART;TZID=UTC:20220205T080000
DTEND;TZID=UTC:20220205T170000
DTSTAMP:20260423T173808
CREATED:20211124T215644Z
LAST-MODIFIED:20211124T215644Z
UID:490-1644048000-1644080400@springrollers.org
SUMMARY:Sit Volleyball - Dallas RISE
DESCRIPTION:Sit Volleyball \nFebruary 5\, 2022  12:00 pm – 2:00 pm\nGeorgia Farrow Recreation Center\, 530 Davis Dr\, Irving\, TX 75061\, USA \n\n\nOnline reservations are mandatory 48 hours prior to program start time. Reservations not made on time are unacceptable and you will not be allowed to participate. \nPlease arrive at the scheduled program start time. If you arrive 1 hour after program start time you will not be allowed to participate in this program. \nTo make PROGRAM RESERVATIONS please use our electronic form. \nFor more information or questions contact:\ninfo@riseadaptivesports.org or (469) 762-5075
URL:https://springrollers.org/event/sit-volleyball-dallas-rise/
END:VEVENT
BEGIN:VEVENT
DTSTART;VALUE=DATE:20220204
DTEND;VALUE=DATE:20220207
DTSTAMP:20260423T173808
CREATED:20211115T230527Z
LAST-MODIFIED:20211115T230527Z
UID:472-1643932800-1644191999@springrollers.org
SUMMARY:Level 3 Open: Arizona Open
DESCRIPTION:Reffkin Tennis Center\, 50 S Alvernon Way\, Tucson\, AZ\, 85711-3400. Closes January 15\, 2022
URL:https://springrollers.org/event/level-3-open-arizona-open/
END:VEVENT
BEGIN:VEVENT
DTSTART;TZID=UTC:20220118T080000
DTEND;TZID=UTC:20220118T170000
DTSTAMP:20260423T173808
CREATED:20211124T215522Z
LAST-MODIFIED:20211124T215522Z
UID:488-1642492800-1642525200@springrollers.org
SUMMARY:Wheelchair Skate - Dallas RISE
DESCRIPTION:Wheelchair Skate \nJanuary 18\, 2022  6:00 pm – 8:00 pm\nScion Skate Park 1301 S. Railroad Street\, Lewisville\, TX 75057 \n\n\nOnline reservations are mandatory 48 hours prior to program start time. Reservations not made on time are unacceptable and you will not be allowed to participate. \nPlease arrive at the scheduled program start time. If you arrive 1 hour after program start time you will not be allowed to participate in this program. \nNovice’s and the Pro’s will learn how to navigate a skate park in a wheelchair. Helmets\, Pads\, and Instruction are provided. \nTo make PROGRAM RESERVATIONS please use our electronic form.
URL:https://springrollers.org/event/wheelchair-skate-dallas-rise/
END:VEVENT
BEGIN:VEVENT
DTSTART;VALUE=DATE:20211211
DTEND;VALUE=DATE:20211212
DTSTAMP:20260423T173808
CREATED:20211115T230911Z
LAST-MODIFIED:20211115T230911Z
UID:476-1639180800-1639267199@springrollers.org
SUMMARY:Unsanctioned - Clocktower Classic USTA Junior Circuit
DESCRIPTION:In partnership wtih BLAZE SPORTS\, USTA and ALTA\, the Clocktower Classic Junior Circuit is an opportunity for new athletes to the sport of wheelchair tennis to come out\, learn\, play and have fun!! This round robin (unsanctioned) tournament is free to the athlete thanks to a generous grant from USTA and ALTA. Matches will take place indoors\, concurrent with a USTA National Level 3 Wheelchair Tennis tournament (Giving the participants an opportunity to watch some great tennis!) Questions? Contact Karolyne Bell\, 404-270-2031 or kbell@blazesports.org OR Ann Hortman\, 706-295-5576 or ahortman@romega.us
URL:https://springrollers.org/event/unsanctioned-clocktower-classic-usta-junior-circuit/
END:VEVENT
BEGIN:VEVENT
DTSTART;VALUE=DATE:20211210
DTEND;VALUE=DATE:20211213
DTSTAMP:20260423T173808
CREATED:20211115T230718Z
LAST-MODIFIED:20211115T230718Z
UID:474-1639094400-1639353599@springrollers.org
SUMMARY:Level 3 Open - Clocktower Classic Wheelchair Tennis Open (Indoor)
DESCRIPTION:Rome Tennis Center at Berry College\, 100 Match Point Way Northeast\, Rome\, GA\, 30165 Closes 11/24/21
URL:https://springrollers.org/event/level-3-open-clocktower-classic-wheelchair-tennis-open-indoor/
END:VEVENT
BEGIN:VEVENT
DTSTART;TZID=UTC:20211204T090000
DTEND;TZID=UTC:20211204T140000
DTSTAMP:20260423T173808
CREATED:20211110T184506Z
LAST-MODIFIED:20211110T184506Z
UID:468-1638608400-1638626400@springrollers.org
SUMMARY:Annual Spring Roller-Palooza 2021
DESCRIPTION:SAVE THE DATE! \nRecreational\, fun tennis tournament for all!
URL:https://springrollers.org/event/annual-spring-roller-palooza-2/
LOCATION:Bear Branch Park\, 5310 Research Forest Dr\,\, The Woodlands\, TX\, 77381\, United States
END:VEVENT
BEGIN:VEVENT
DTSTART;TZID=UTC:20211203T080000
DTEND;TZID=UTC:20211205T170000
DTSTAMP:20260423T173808
CREATED:20211124T215354Z
LAST-MODIFIED:20211124T215354Z
UID:486-1638518400-1638723600@springrollers.org
SUMMARY:Dallas Abilities Expo - RISE
DESCRIPTION:December 3\, 2021 – December 5\, 2021\nDallas Market Hall\, 2200 N Stemmons Fwy\, Dallas\, TX 75207\, USA \nRISE is proud to announce we will have a major presence at this year’s Abilities Expo Dallas\, DECEMBER 3-5\, 2021\, Dallas Market Hall – Fri. 11am-5pm | Sat. 11am-5pm | Sun 11am-4pm Abilities Expo | Dallas Event. All three days we will host the interactive Wheelchair Skate (WCMX) section with WCMX Ramps and Chairs to test your skills and hosting the Adaptive Sports Zone to learn and experience all RISE Programs
URL:https://springrollers.org/event/dallas-abilities-expo-rise/
END:VEVENT
BEGIN:VEVENT
DTSTART;TZID=UTC:20211125T080000
DTEND;TZID=UTC:20211128T170000
DTSTAMP:20260423T173808
CREATED:20211124T212606Z
LAST-MODIFIED:20211124T212606Z
UID:480-1637827200-1638118800@springrollers.org
SUMMARY:TENERIFE OPEN POWERED BY WELLSPECT
DESCRIPTION:Tenerife Top Training \nLa Caleta de Adeje\, Avda. de los Acantilados\, Santa Cruz de Tenerife\, 38679
URL:https://springrollers.org/event/tenerife-open-powered-by-wellspect/
END:VEVENT
BEGIN:VEVENT
DTSTART;VALUE=DATE:20201204
DTEND;VALUE=DATE:20201207
DTSTAMP:20260423T173808
CREATED:20191225T201148Z
LAST-MODIFIED:20191225T201148Z
UID:453-1607040000-1607299199@springrollers.org
SUMMARY:Metal and Muscle
DESCRIPTION:The Houston Parks & Recreation Department’s Adaptive Recreation will be hosting the 9th annual Metal & Muscle Expo on December 4-6\, 2020.\nThe Metal & Muscle Expo will feature Paralympic and other disabled sport clinics as well as individual and team competitions.
URL:https://springrollers.org/event/metal-and-muscle/
LOCATION:George R Brown Expo\, 1001 Avenida De Las Americas\, Houston\, TX\, 77010
END:VEVENT
BEGIN:VEVENT
DTSTART;VALUE=DATE:20200425
DTEND;VALUE=DATE:20200426
DTSTAMP:20260423T173808
CREATED:20191225T202022Z
LAST-MODIFIED:20200130T012245Z
UID:456-1587772800-1587859199@springrollers.org
SUMMARY:Spring Rollers Tournament
DESCRIPTION:Save the date!
URL:https://springrollers.org/event/spring-rollers-tournament/
LOCATION:Bear Branch Park\, 5310 Research Forest Dr\,\, The Woodlands\, TX\, 77381\, United States
END:VEVENT
BEGIN:VEVENT
DTSTART;VALUE=DATE:20200317
DTEND;VALUE=DATE:20200323
DTSTAMP:20260423T173808
CREATED:20191225T194538Z
LAST-MODIFIED:20191225T194811Z
UID:446-1584403200-1584921599@springrollers.org
SUMMARY:Cajun Classic Tennis Tournament
DESCRIPTION:Jennifer Edmonson\nTournament Director\n225-939-4086
URL:https://springrollers.org/event/cajun-classic-tennis-tournament/
LOCATION:Paula G Manship YMCA\, Baton Rouge\, LA\, Baton Rouge
END:VEVENT
BEGIN:VEVENT
DTSTART;VALUE=DATE:20200221
DTEND;VALUE=DATE:20200224
DTSTAMP:20260423T173808
CREATED:20191225T200521Z
LAST-MODIFIED:20191225T200521Z
UID:451-1582243200-1582502399@springrollers.org
SUMMARY:2020 UH Cougar Open
DESCRIPTION:https://uh.edu/class/hhp/hhp_adaptive_athletics/programs/Adaptive-Tennis/2016%20Cougar%20Open/
URL:https://springrollers.org/event/2020-uh-cougar-open/
LOCATION:Memorial Park Tennis Center\, 1500 W Memorial Loop Drive\, Houston\, TX\, 77007\, United States
END:VEVENT
BEGIN:VEVENT
DTSTART;TZID=UTC:20181208T090000
DTEND;TZID=UTC:20181208T140000
DTSTAMP:20260423T173808
CREATED:20181013T134529Z
LAST-MODIFIED:20181013T134529Z
UID:355-1544259600-1544277600@springrollers.org
SUMMARY:Annual Spring Roller-Palooza
DESCRIPTION:SAVE THE DATE! \nRecreational\, fun tennis tournament for all!
URL:https://springrollers.org/event/annual-spring-roller-palooza/
LOCATION:Bear Branch Park\, 5310 Research Forest Dr\,\, The Woodlands\, TX\, 77381\, United States
END:VEVENT
BEGIN:VEVENT
DTSTART;TZID=UTC:20181114T163000
DTEND;TZID=UTC:20181114T183000
DTSTAMP:20260423T173808
CREATED:20181012T210854Z
LAST-MODIFIED:20181012T210854Z
UID:346-1542213000-1542220200@springrollers.org
SUMMARY:Weekly Tennis Practice
DESCRIPTION:
URL:https://springrollers.org/event/weekly-tennis-practice-2-2-2-2/
LOCATION:Ridgewood Park The Woodlands\, 4192 Interfaith Way\, The Woodlands\, TX\, 77381\, United States
END:VEVENT
BEGIN:VEVENT
DTSTART;TZID=UTC:20181107T163000
DTEND;TZID=UTC:20181107T183000
DTSTAMP:20260423T173808
CREATED:20181012T210420Z
LAST-MODIFIED:20181012T210420Z
UID:344-1541608200-1541615400@springrollers.org
SUMMARY:Weekly Tennis Practice
DESCRIPTION:
URL:https://springrollers.org/event/weekly-tennis-practice-2-2-2/
LOCATION:Ridgewood Park The Woodlands\, 4192 Interfaith Way\, The Woodlands\, TX\, 77381\, United States
END:VEVENT
BEGIN:VEVENT
DTSTART;TZID=UTC:20181031T163000
DTEND;TZID=UTC:20181031T183000
DTSTAMP:20260423T173808
CREATED:20181012T203729Z
LAST-MODIFIED:20181012T210809Z
UID:325-1541003400-1541010600@springrollers.org
SUMMARY:Weekly Tennis Practice
DESCRIPTION:
URL:https://springrollers.org/event/weekly-tennis-practice-2-2/
LOCATION:Ridgewood Park The Woodlands\, 4192 Interfaith Way\, The Woodlands\, TX\, 77381\, United States
END:VEVENT
BEGIN:VEVENT
DTSTART;TZID=UTC:20181024T163000
DTEND;TZID=UTC:20181024T183000
DTSTAMP:20260423T173808
CREATED:20181012T203634Z
LAST-MODIFIED:20181012T210741Z
UID:323-1540398600-1540405800@springrollers.org
SUMMARY:Weekly Tennis Practice
DESCRIPTION:
URL:https://springrollers.org/event/weekly-tennis-practice-2/
LOCATION:Ridgewood Park The Woodlands\, 4192 Interfaith Way\, The Woodlands\, TX\, 77381\, United States
END:VEVENT
BEGIN:VEVENT
DTSTART;VALUE=DATE:20181019
DTEND;VALUE=DATE:20181022
DTSTAMP:20260423T173808
CREATED:20181011T180258Z
LAST-MODIFIED:20181014T134604Z
UID:278-1539907200-1540166399@springrollers.org
SUMMARY:UH Cougar Open Wheelchair Tennis Tournament
DESCRIPTION:General Tournament Information: WEBSITE\nStart of Play: 9 a.m.\nMatch Check-In: Players must check-in at the registration desk 15 minutes before their match time. \nRound Robin draws: a player who is defaulted for any reason other than lateness shall not play in subsequent matches. If a player or team defaults\, they will not be allowed to play the Rounds following that defaulted match\, and if subsequent matches are played\, those matches will not count towards rankings. \nNo-Show Defaults: If a player does not send written notice that they will need to default a match\, to the Tournament Director at least one hour before the date and time of the scheduled match\, the defaulting player will receive 5 Suspension Points. \nPlayer Selection Type \nNo Selection Process. All registered players will be selected. \nEntry Type \nEntry to this tournament is open to all USTA members. Entries must be submitted by Wednesday\, October 10\, 2018 11:59:00 PM Central Time. Only USTA members can register online if available.
URL:https://springrollers.org/event/uh-cougar-open-wheelchair-tennis-tournament/
LOCATION:Memorial Park Tennis Center\, 1500 W Memorial Loop Drive\, Houston\, TX\, 77007\, United States
END:VEVENT
BEGIN:VEVENT
DTSTART;TZID=UTC:20181017T163000
DTEND;TZID=UTC:20181017T183000
DTSTAMP:20260423T173808
CREATED:20181012T203247Z
LAST-MODIFIED:20181012T210627Z
UID:319-1539793800-1539801000@springrollers.org
SUMMARY:Weekly Tennis Practice
DESCRIPTION:
URL:https://springrollers.org/event/weekly-tennis-practice/
LOCATION:Ridgewood Park The Woodlands\, 4192 Interfaith Way\, The Woodlands\, TX\, 77381\, United States
END:VEVENT
END:VCALENDAR